BEGIN:VCALENDAR
VERSION:2.0
PRODID:-//hacksw/handcal//NONSGML v1.0//EN
BEGIN:VEVENT
SUMMARY:Match U15 B
UID:f17cb967-043c-40b9-9277-d0c97151e0d1
DTSTART:20260502T113000Z
DTEND:20260502T153000Z
LOCATION:Localisation   
CATEGORIES:Sportif
STATUS:
URL;VALUE=URI:https://fcpcb2018.sportsregions.fr/evenements/2026/05/02/match-u15-b-2425645
END:VEVENT
END:VCALENDAR
