BEGIN:VCALENDAR
VERSION:2.0
PRODID:-//hacksw/handcal//NONSGML v1.0//EN
BEGIN:VEVENT
SUMMARY:entrainement u15 B a St Clement
UID:b77227fe-70f5-420c-a68c-e773914e231c
DTSTART:20260402T163000Z
DTEND:20260402T180000Z
LOCATION:Localisation   
CATEGORIES:Sportif
STATUS:
URL;VALUE=URI:https://fcpcb2018.sportsregions.fr/evenements/2026/04/02/entrainement-u15-b-a-st-clement-2435277
END:VEVENT
END:VCALENDAR
