BEGIN:VCALENDAR
VERSION:2.0
PRODID:-//hacksw/handcal//NONSGML v1.0//EN
BEGIN:VEVENT
SUMMARY:entrainement u15 A
UID:5d75b8f6-1c08-4abf-9294-7544455d295f
DTSTART:20260402T163000Z
DTEND:20260402T180000Z
LOCATION:Localisation   
CATEGORIES:Sportif
STATUS:
URL;VALUE=URI:https://fcpcb2018.sportsregions.fr/evenements/2026/04/02/entrainement-u15-a-2435279
END:VEVENT
END:VCALENDAR
