BEGIN:VCALENDAR
VERSION:2.0
PRODID:-//hacksw/handcal//NONSGML v1.0//EN
BEGIN:VEVENT
SUMMARY:Match U15 B
UID:9407df16-67df-476e-93fa-28dc3d19ba59
DTSTART:20260314T123000Z
DTEND:20260314T163000Z
LOCATION:Localisation   
CATEGORIES:Sportif
STATUS:
URL;VALUE=URI:https://fcpcb2018.sportsregions.fr/evenements/2026/03/14/match-u15-b-2425640
END:VEVENT
END:VCALENDAR
